BEGIN:VCALENDAR
VERSION:2.0
PRODID:-//www.parkwayheights.org//NONSGML kigkonsult.se iCalcreator 2.39.1/
 /
CALSCALE:GREGORIAN
METHOD:PUBLISH
UID:b182deec-4fd3-45f9-99d1-ea27f1a6a379
X-WR-CALNAME:www.parkwayheights.org
X-WR-CALDESC:www.parkwayheights.org
X-WR-TIMEZONE:America/Los_Angeles
X-LIC-LOCATION:America/Los_Angeles
BEGIN:VEVENT
UID:308148d1-5864-4de6-8d36-5ad0001841a6
DTSTAMP:20260425T122228Z
CLASS:PUBLIC
DTSTART;TZID=America/Los_Angeles:20260430T150000
DTEND;TZID=America/Los_Angeles:20260430T220000
SUMMARY:Senior Adult Day Trip to Chinese Lantern Festival
TRANSP:OPAQUE
BEGIN:VALARM
ACTION:DISPLAY
DESCRIPTION:Senior Adult Day Trip to Chinese Lantern Festival
TRIGGER:-PT15M
END:VALARM
END:VEVENT
END:VCALENDAR
